BEGIN:VCALENDAR
VERSION:2.0
PRODID:-//MIS
CALSCALE:GREGORIAN
METHOD:PUBLISH
X-WR-CALNAME:MIS
X-ORIGINAL-URL:https://mis-eg.com/k-event/gcse-japanese-culture-workshop/
X-WR-CALDESC:Workshop: GCSE Japanese Culture
BEGIN:VEVENT
DTSTART:
DTEND:
SUMMARY:Workshop: GCSE Japanese Culture
DESCRIPTION:
LOCATION:
END:VEVENT
END:VCALENDAR
