BEGIN:VCALENDAR
VERSION:2.0
PRODID:-//MIS
CALSCALE:GREGORIAN
METHOD:PUBLISH
X-WR-CALNAME:MIS
X-ORIGINAL-URL:https://mis-eg.com/k-event/sally-ledger-memorial-lecture/
X-WR-CALDESC:2015 Sally Ledger Memorial Lecture
BEGIN:VEVENT
DTSTART:
DTEND:
SUMMARY:2015 Sally Ledger Memorial Lecture
DESCRIPTION:
LOCATION:
END:VEVENT
END:VCALENDAR
