BEGIN:VCALENDAR
VERSION:2.0
PRODID:-//MIS
CALSCALE:GREGORIAN
METHOD:PUBLISH
X-WR-CALNAME:MIS
X-ORIGINAL-URL:https://mis-eg.com/k-event/get-ahead-extended-conference/
X-WR-CALDESC:Get Ahead Extended Conference
BEGIN:VEVENT
DTSTART:
DTEND:
SUMMARY:Get Ahead Extended Conference
DESCRIPTION:
LOCATION:
END:VEVENT
END:VCALENDAR
