BEGIN:VCALENDAR
VERSION:2.0
PRODID:-//MIS
CALSCALE:GREGORIAN
METHOD:PUBLISH
X-WR-CALNAME:MIS
X-ORIGINAL-URL:https://mis-eg.com/k-event/history-of-art-information-event/
X-WR-CALDESC:History of Art Information Event
BEGIN:VEVENT
DTSTART:
DTEND:
SUMMARY:History of Art Information Event
DESCRIPTION:
LOCATION:
END:VEVENT
END:VCALENDAR
