BEGIN:VCALENDAR
VERSION:2.0
PRODID:-//MIS
CALSCALE:GREGORIAN
METHOD:PUBLISH
X-WR-CALNAME:MIS
X-ORIGINAL-URL:https://mis-eg.com/k-event/parent-learning-events/
X-WR-CALDESC:Year 10 Parent Learning Event
BEGIN:VEVENT
DTSTART:
DTEND:
SUMMARY:Year 10 Parent Learning Event
DESCRIPTION:
LOCATION:
END:VEVENT
END:VCALENDAR
