BEGIN:VCALENDAR
VERSION:2.0
PRODID:-//MIS
CALSCALE:GREGORIAN
METHOD:PUBLISH
X-WR-CALNAME:MIS
X-ORIGINAL-URL:https://mis-eg.com/k-event/class-day-ceremony/
X-WR-CALDESC:Class Day Ceremony For Students
BEGIN:VEVENT
DTSTART:
DTEND:
SUMMARY:Class Day Ceremony For Students
DESCRIPTION:
LOCATION:
END:VEVENT
END:VCALENDAR
