BEGIN:VCALENDAR
VERSION:2.0
PRODID:-//MIS
CALSCALE:GREGORIAN
METHOD:PUBLISH
X-WR-CALNAME:MIS
X-ORIGINAL-URL:https://mis-eg.com/k-event/annual-honors-convocation/
X-WR-CALDESC:92nd Annual Honors Convocation
BEGIN:VEVENT
DTSTART:
DTEND:
SUMMARY:92nd Annual Honors Convocation
DESCRIPTION:
LOCATION:
END:VEVENT
END:VCALENDAR
